BEGIN:VCALENDAR
VERSION:2.0
PRODID:-//Les quatre jardins - ECPv6.15.20//NONSGML v1.0//EN
CALSCALE:GREGORIAN
METHOD:PUBLISH
X-ORIGINAL-URL:https://les-quatre-jardins.fr
X-WR-CALDESC:Évènements pour Les quatre jardins
REFRESH-INTERVAL;VALUE=DURATION:PT1H
X-Robots-Tag:noindex
X-PUBLISHED-TTL:PT1H
BEGIN:VTIMEZONE
TZID:Europe/Paris
BEGIN:DAYLIGHT
TZOFFSETFROM:+0100
TZOFFSETTO:+0200
TZNAME:CEST
DTSTART:20240331T010000
END:DAYLIGHT
BEGIN:STANDARD
TZOFFSETFROM:+0200
TZOFFSETTO:+0100
TZNAME:CET
DTSTART:20241027T010000
END:STANDARD
BEGIN:DAYLIGHT
TZOFFSETFROM:+0100
TZOFFSETTO:+0200
TZNAME:CEST
DTSTART:20250330T010000
END:DAYLIGHT
BEGIN:STANDARD
TZOFFSETFROM:+0200
TZOFFSETTO:+0100
TZNAME:CET
DTSTART:20251026T010000
END:STANDARD
BEGIN:DAYLIGHT
TZOFFSETFROM:+0100
TZOFFSETTO:+0200
TZNAME:CEST
DTSTART:20260329T010000
END:DAYLIGHT
BEGIN:STANDARD
TZOFFSETFROM:+0200
TZOFFSETTO:+0100
TZNAME:CET
DTSTART:20261025T010000
END:STANDARD
END:VTIMEZONE
BEGIN:VEVENT
DTSTART;TZID=Europe/Paris:20250930T080000
DTEND;TZID=Europe/Paris:20251024T170000
DTSTAMP:20260426T061405
CREATED:20250826T140126Z
LAST-MODIFIED:20250826T140126Z
UID:3428-1759219200-1761325200@les-quatre-jardins.fr
SUMMARY:Exposition "Révélation"
DESCRIPTION:Après une dernière sortie pour l’inauguration du Comité Locale de Santé Mentale\, l’exposition “Révélation” reprendra du service pour s’installer dans deux bibliothèques. \nLa première se tiendra à la bibliothèque de St Etienne de St Geoirs\, du 30 septembre au 10 octobre\, avec une intervention des résidents concernés le mercredi 1er octobre. \nLa seconde sur St Siméon de Bressieux\, du 13 au 24 octobre\, avec une intervention le 15 octobre
URL:https://les-quatre-jardins.fr/event/exposition-revelation/
CATEGORIES:Activités en extérieur
ATTACH;FMTTYPE=application/pdf:https://les-quatre-jardins.fr/wp-content/uploads/2025/08/couv1.pdf
END:VEVENT
BEGIN:VEVENT
DTSTART;TZID=Europe/Paris:20251002T080000
DTEND;TZID=Europe/Paris:20251002T170000
DTSTAMP:20260426T061405
CREATED:20250919T133636Z
LAST-MODIFIED:20250919T133636Z
UID:3883-1759392000-1759424400@les-quatre-jardins.fr
SUMMARY:Cross du VION
DESCRIPTION:Une nouvelle fois\, une équipe des Quatre Jardins se rendra à la Fondation Georges Boissel\, pour participer à leur cross annuel.
URL:https://les-quatre-jardins.fr/event/cross-du-vion-2/
CATEGORIES:Activités en extérieur
ATTACH;FMTTYPE=image/jpeg:https://les-quatre-jardins.fr/wp-content/uploads/2024/10/EquipeFGB-1.jpg
END:VEVENT
BEGIN:VEVENT
DTSTART;TZID=Europe/Paris:20251024T080000
DTEND;TZID=Europe/Paris:20251024T170000
DTSTAMP:20260426T061405
CREATED:20251010T095932Z
LAST-MODIFIED:20251010T095932Z
UID:3935-1761292800-1761325200@les-quatre-jardins.fr
SUMMARY:Fête de l'automne
DESCRIPTION:
URL:https://les-quatre-jardins.fr/event/fete-de-lautomne-2/
CATEGORIES:Activités en extérieur,Activités en intérieur
ATTACH;FMTTYPE=image/jpeg:https://les-quatre-jardins.fr/wp-content/uploads/2025/10/20241011_141739-scaled.jpg
END:VEVENT
END:VCALENDAR